BEGIN:VCALENDAR
VERSION:2.0
PRODID:spatie/icalendar-generator
DESCRIPTION:Events from Aspire Consulting
X-WR-CALDESC:Events from Aspire Consulting
REFRESH-INTERVAL;VALUE=DURATION:PT1440M
X-PUBLISHED-TTL:PT1440M
BEGIN:VTIMEZONE
TZID:Europe/London
BEGIN:DAYLIGHT
DTSTART:20240331T010000Z
TZOFFSETFROM:+0000
TZOFFSETTO:+0100
END:DAYLIGHT
BEGIN:STANDARD
DTSTART:20241027T020000Z
TZOFFSETFROM:+0100
TZOFFSETTO:+0000
END:STANDARD
BEGIN:DAYLIGHT
DTSTART:20250330T010000Z
TZOFFSETFROM:+0000
TZOFFSETTO:+0100
END:DAYLIGHT
END:VTIMEZONE
BEGIN:VTIMEZONE
TZID:UTC
BEGIN:STANDARD
DTSTART:20250724T155624Z
TZOFFSETFROM:+0000
TZOFFSETTO:+0000
END:STANDARD
END:VTIMEZONE
BEGIN:VEVENT
UID:3-3
DTSTAMP:20260420T155624Z
SUMMARY:Principles of Supportability Engineering &amp;amp\; Logistics Support A
 nalysis Principles and Practice (PSE &amp;amp\; LSA)
LOCATION:Aspire Consulting Ltd No. 16 Ground Floor Victoria Road Tamworth S
 taffordshire B79 7HL
ORGANIZER;CN=Fritha Stuttard:MAILTO:fritha@frithastuttardsocial.com
DTSTART;TZID=Europe/London;VALUE=DATE:20241104
DTEND;TZID=Europe/London;VALUE=DATE:20241109
X-ALT-DESC;FMTTYPE=TEXT/HTML:
CATEGORIES:General
URL;VALUE=URI:https://www.aspirecl.com/mc-events/principles-of-supportabili
 ty-engineering-logistics-support-analysis-principles-and-practice-pse-lsa-
 2/?mc_id=3
END:VEVENT
END:VCALENDAR