BEGIN:VCALENDAR
VERSION:2.0
PRODID:spatie/icalendar-generator
DESCRIPTION:Events from Aspire Consulting
X-WR-CALDESC:Events from Aspire Consulting
REFRESH-INTERVAL;VALUE=DURATION:PT1440M
X-PUBLISHED-TTL:PT1440M
BEGIN:VTIMEZONE
TZID:Europe/London
BEGIN:STANDARD
DTSTART:20251026T020000Z
TZOFFSETFROM:+0100
TZOFFSETTO:+0000
END:STANDARD
BEGIN:DAYLIGHT
DTSTART:20260329T010000Z
TZOFFSETFROM:+0000
TZOFFSETTO:+0100
END:DAYLIGHT
BEGIN:STANDARD
DTSTART:20261025T020000Z
TZOFFSETFROM:+0100
TZOFFSETTO:+0000
END:STANDARD
END:VTIMEZONE
BEGIN:VTIMEZONE
TZID:UTC
BEGIN:STANDARD
DTSTART:20250724T173421Z
TZOFFSETFROM:+0000
TZOFFSETTO:+0000
END:STANDARD
END:VTIMEZONE
BEGIN:VEVENT
UID:39-36
DTSTAMP:20260420T173421Z
SUMMARY:Support Analysis: Principles of Supportability Engineering &amp;amp\; L
 ogistics Support Analysis Principles and Practice (PSE &amp;amp\; LSA)
LOCATION:Aspire Consulting Ltd No. 16 Ground Floor Victoria Road Tamworth S
 taffordshire B79 7HL
ORGANIZER;CN=Lee Fitzsimons:MAILTO:lee.fitzsimons@aspirecl.com
DTSTART;TZID=Europe/London;VALUE=DATE:20260713
DTEND;TZID=Europe/London;VALUE=DATE:20260718
X-ALT-DESC;FMTTYPE=TEXT/HTML:
CATEGORIES:General
URL;VALUE=URI:https://www.aspirecl.com/mc-events/support-analysis-principle
 s-of-supportability-engineering-logistics-support-analysis-principles-and-
 practice-pse-lsa-5/?mc_id=39
END:VEVENT
END:VCALENDAR